BEGIN:VCALENDAR
VERSION:2.0
PRODID:-//wp-events-plugin.com//7.2.3.1//EN
TZID:Europe/London
X-WR-TIMEZONE:Europe/London
BEGIN:VEVENT
UID:226@thesap.org.uk
DTSTART;TZID=Europe/London:20231117T140000
DTEND;TZID=Europe/London:20231119T180000
DTSTAMP:20231116T085137Z
URL:https://www.thesap.org.uk/events/the-sap-autumn-conference/
SUMMARY:The SAP 3 Day online Autumn Conference
DESCRIPTION:Thinking about Analytic Training in a Changing World\nConvenors
 : \n\nJan Wiener\, Richard Mizen\, Catriona Wrottesley\n\n\n\nAims\n\nThis
  conference organised by the Society of Analytical Psychology aims to exam
 ine the basic assumptions that inform approaches to training in its differ
 ent aspects. These can be conscious but are often affected by unconscious 
 forces that reflect a conflict in training institutes and their members be
 tween the wish to grow and develop on the one hand and a reluctance to fac
 e the change and loss this involves\, on the other.\n\nThis international 
 online conference brings together people from analytic institutes across t
 he world\, with a shared interest in training but who may have different v
 iews and orientations.  The themes that will be explored include:\n\n 	Th
 e role and teaching of theory.\n 	Attitudes to our methods of work and the
 ir relevance in a contemporary world.\n 	Cross-cultural aspects of trainin
 g.\n 	What we expect candidates to know and how we assess progress.\n 	Una
 ccountable power and prejudice in our institutes.\n 	Personal analysis: wh
 at is enough?\n\nThis unique conference will take place over three afterno
 ons (UK time) from Friday 17 to Sunday 19 November 2023. Recordings of mai
 n presentations will be available after the conference ends to those deleg
 ates who have registered for the full three days and those who have purcha
 sed access to the recordings separately.\n\n&nbsp\;\n\n\n\n&nbsp\;
ATTACH;FMTTYPE=image/jpeg:https://www.thesap.org.uk/wp-content/uploads/202
 3/06/Picture1.png
CATEGORIES:CPD Event
END:VEVENT
BEGIN:VTIMEZONE
TZID:Europe/London
X-LIC-LOCATION:Europe/London
BEGIN:STANDARD
DTSTART:20231029T010000
TZOFFSETFROM:+0100
TZOFFSETTO:+0000
TZNAME:GMT
END:STANDARD
END:VTIMEZONE
END:VCALENDAR