BEGIN:VCALENDAR
VERSION:2.0
PRODID:-//wp-events-plugin.com//7.2.3.1//EN
TZID:Europe/London
X-WR-TIMEZONE:Europe/London
BEGIN:VEVENT
UID:259@thesap.org.uk
DTSTART;TZID=Europe/London:20260704T140000
DTEND;TZID=Europe/London:20260704T170000
DTSTAMP:20260331T151342Z
URL:https://www.thesap.org.uk/events/in-person-sap-open-house-3/
SUMMARY:In-Person SAP Open House
DESCRIPTION:The Open day offers an opportunity to learn more about the enti
 re range of trainings offered by the SAP\, including:\n\nProfessional cour
 ses (in Adult Analysis and Psychodynamic Psychotherapy)\n\nIntroductory co
 urses Our popular one year Foundations course\;\n\nThe Jungian Process &a
 mp\; Experiential Group - a unique in person experience\;\n\nContinuous Pr
 ofessional Development Courses for qualified therapists in Supervision and
  Clinical Practice\n\nDiploma in Jungian Psychodynamic Psychotherapy with 
 Adolescents and Young Adults\n\nA rolling programme of seminars\, workshop
 s and conferences for practitioners and those thinking about training\n\nT
 he programme includes Q &amp\; A sessions and a platform to meet informall
 y Course Conveners and other SAP members involved with training and events
 .
ATTACH;FMTTYPE=image/jpeg:https://www.thesap.org.uk/wp-content/uploads/202
 3/05/SAP.jpg
CATEGORIES:Public Talk
LOCATION:https://www.google.com/maps/place/Daleham+Gardens,+London+NW3+5BY/
 @51.547763,-0.177492,17z/data=!3m1!4b1!4m6!3m5!1s0x48761a8fb98c6b4d:0x7508
 7e894fdc4c27!8m2!3d51.5479542!4d-0.1743517!16s%2Fg%2F1tlbj0_v?entry=ttu&g_
 ep=EgoyMDI1MDcyMC4wIKXMDSoASAFQAw%3D%3D
END:VEVENT
BEGIN:VTIMEZONE
TZID:Europe/London
X-LIC-LOCATION:Europe/London
BEGIN:DAYLIGHT
DTSTART:20260329T020000
TZOFFSETFROM:+0000
TZOFFSETTO:+0100
TZNAME:BST
END:DAYLIGHT
END:VTIMEZONE
END:VCALENDAR